BEGIN:VCALENDAR
VERSION:2.0
PRODID:-//Sag Harbor Historical Museum - ECPv6.15.20//NONSGML v1.0//EN
CALSCALE:GREGORIAN
METHOD:PUBLISH
X-ORIGINAL-URL:https://sagharborhistoricalmuseum.org
X-WR-CALDESC:Events for Sag Harbor Historical Museum
REFRESH-INTERVAL;VALUE=DURATION:PT1H
X-Robots-Tag:noindex
X-PUBLISHED-TTL:PT1H
BEGIN:VTIMEZONE
TZID:America/New_York
BEGIN:DAYLIGHT
TZOFFSETFROM:-0500
TZOFFSETTO:-0400
TZNAME:EDT
DTSTART:20250309T070000
END:DAYLIGHT
BEGIN:STANDARD
TZOFFSETFROM:-0400
TZOFFSETTO:-0500
TZNAME:EST
DTSTART:20251102T060000
END:STANDARD
BEGIN:DAYLIGHT
TZOFFSETFROM:-0500
TZOFFSETTO:-0400
TZNAME:EDT
DTSTART:20260308T070000
END:DAYLIGHT
BEGIN:STANDARD
TZOFFSETFROM:-0400
TZOFFSETTO:-0500
TZNAME:EST
DTSTART:20261101T060000
END:STANDARD
BEGIN:DAYLIGHT
TZOFFSETFROM:-0500
TZOFFSETTO:-0400
TZNAME:EDT
DTSTART:20270314T070000
END:DAYLIGHT
BEGIN:STANDARD
TZOFFSETFROM:-0400
TZOFFSETTO:-0500
TZNAME:EST
DTSTART:20271107T060000
END:STANDARD
END:VTIMEZONE
BEGIN:VEVENT
DTSTART;VALUE=DATE:20260418
DTEND;VALUE=DATE:20260419
DTSTAMP:20260422T064853
CREATED:20260112T123751Z
LAST-MODIFIED:20260112T123751Z
UID:10000032-1776470400-1776556799@sagharborhistoricalmuseum.org
SUMMARY:"Sag Harbor in the Revolution" Book Launch
DESCRIPTION:In April\, the Museum will launch its book\, “Sag Harbor in the Revolution”\, to celebrate the 250th anniversary of the Declaration of Independence. Our small village was an important contributor to the patriots’ efforts to become independent\, but not all residents wanted to part company with the King. \nHave you heard of the Battle of Sag Harbor\, the heroic raid on the British fort that still lies beneath our feet in the Old Burying Ground? Or of the mass exodus to Connecticut from Sag Harbor in September 1776\, when local residents escaped the British occupation? Or do you know how our village rebuilt its economy after the Revolutionary War? These and many other questions will be answered in “Sag Harbor in the Revolution.” \n \nThirteen authors\, all distinguished historians or specialists in their fields\, have been brought together to contribute new research on the subject of Sag Harbor’s role in the American Revolution.
URL:https://sagharborhistoricalmuseum.org/event/sag-harbor-in-the-revolution-book-launch/
LOCATION:NY
CATEGORIES:250th
ATTACH;FMTTYPE=image/jpeg:https://sagharborhistoricalmuseum.org/wp-content/uploads/2026/01/Revolution-Book-Cover-JPEG.jpeg
ORGANIZER;CN="Sag Harbor Historical Museum":MAILTO:sagharborhist@gmail.com
END:VEVENT
BEGIN:VEVENT
DTSTART;TZID=America/New_York:20260308T110000
DTEND;TZID=America/New_York:20260308T130000
DTSTAMP:20260422T064853
CREATED:20260313T155648Z
LAST-MODIFIED:20260313T155726Z
UID:10000036-1772967600-1772974800@sagharborhistoricalmuseum.org
SUMMARY:The American Revolution 6-Part Documentary
DESCRIPTION:Sag Harbor Cinema & Sag Harbor Historical Museum Present a new 6-part documentary from \nKen Burns\, Sarah Botstein and David Schmidt. \n \n“The American Revolution” will play in six parts on Sundays from February 1st through March 8th\, 2026 at the Cinema. Screenings are offered free on a first come\, first serve basis. Registration is highly recommended and available at the Cinema box office or at sagharborcinema.org. \nIN ORDER TO BE FREE  Episode 1 (May 1754 – May 1775)  Sunday\, February 1st\, 11:00 a.m. \nAN ASYLUM FOR MANKIND  Episode 2 (May 1775 – July 1776)  Sunday\, February 8th\, 11:00 a.m. \nTHE TIMES THAT TRY MEN’S SOULS  Episode 3 (July 1776 – January 1777  Sunday\, February 15th \nCONQUER BY DRAWN GAME  Episode 4 (January 1777 – February 1778)  Sunday\, February 22nd \nTHE SOUL OF ALL AMERICA  Episode 5 (December 1777 – May 1780)  Sunday\, March 1st \nTHE MOST SACRED THING  Episode 6 (May 1780 – Onward)  Sunday\, March 8th \n  \n 
URL:https://sagharborhistoricalmuseum.org/event/the-american-revolution-6-part-documentary-2/2026-03-08/
LOCATION:Sag Harbor Cinema\, 90 Main Street\, Sag Harbor\, NY\, 11963\, United States
CATEGORIES:250th
ATTACH;FMTTYPE=image/jpeg:https://sagharborhistoricalmuseum.org/wp-content/uploads/2026/01/The-American-Revolution-POSTER-2.jpeg
ORGANIZER;CN="Sag Harbor Historical Museum":MAILTO:sagharborhist@gmail.com
END:VEVENT
BEGIN:VEVENT
DTSTART;TZID=America/New_York:20260301T110000
DTEND;TZID=America/New_York:20260301T130000
DTSTAMP:20260422T064853
CREATED:20260313T155648Z
LAST-MODIFIED:20260313T155726Z
UID:10000035-1772362800-1772370000@sagharborhistoricalmuseum.org
SUMMARY:The American Revolution 6-Part Documentary
DESCRIPTION:Sag Harbor Cinema & Sag Harbor Historical Museum Present a new 6-part documentary from \nKen Burns\, Sarah Botstein and David Schmidt. \n \n“The American Revolution” will play in six parts on Sundays from February 1st through March 8th\, 2026 at the Cinema. Screenings are offered free on a first come\, first serve basis. Registration is highly recommended and available at the Cinema box office or at sagharborcinema.org. \nIN ORDER TO BE FREE  Episode 1 (May 1754 – May 1775)  Sunday\, February 1st\, 11:00 a.m. \nAN ASYLUM FOR MANKIND  Episode 2 (May 1775 – July 1776)  Sunday\, February 8th\, 11:00 a.m. \nTHE TIMES THAT TRY MEN’S SOULS  Episode 3 (July 1776 – January 1777  Sunday\, February 15th \nCONQUER BY DRAWN GAME  Episode 4 (January 1777 – February 1778)  Sunday\, February 22nd \nTHE SOUL OF ALL AMERICA  Episode 5 (December 1777 – May 1780)  Sunday\, March 1st \nTHE MOST SACRED THING  Episode 6 (May 1780 – Onward)  Sunday\, March 8th \n  \n 
URL:https://sagharborhistoricalmuseum.org/event/the-american-revolution-6-part-documentary-2/2026-03-01/
LOCATION:Sag Harbor Cinema\, 90 Main Street\, Sag Harbor\, NY\, 11963\, United States
CATEGORIES:250th
ATTACH;FMTTYPE=image/jpeg:https://sagharborhistoricalmuseum.org/wp-content/uploads/2026/01/The-American-Revolution-POSTER-2.jpeg
ORGANIZER;CN="Sag Harbor Historical Museum":MAILTO:sagharborhist@gmail.com
END:VEVENT
BEGIN:VEVENT
DTSTART;TZID=America/New_York:20260222T110000
DTEND;TZID=America/New_York:20260222T130000
DTSTAMP:20260422T064853
CREATED:20260313T155648Z
LAST-MODIFIED:20260313T155726Z
UID:10000034-1771758000-1771765200@sagharborhistoricalmuseum.org
SUMMARY:The American Revolution 6-Part Documentary
DESCRIPTION:Sag Harbor Cinema & Sag Harbor Historical Museum Present a new 6-part documentary from \nKen Burns\, Sarah Botstein and David Schmidt. \n \n“The American Revolution” will play in six parts on Sundays from February 1st through March 8th\, 2026 at the Cinema. Screenings are offered free on a first come\, first serve basis. Registration is highly recommended and available at the Cinema box office or at sagharborcinema.org. \nIN ORDER TO BE FREE  Episode 1 (May 1754 – May 1775)  Sunday\, February 1st\, 11:00 a.m. \nAN ASYLUM FOR MANKIND  Episode 2 (May 1775 – July 1776)  Sunday\, February 8th\, 11:00 a.m. \nTHE TIMES THAT TRY MEN’S SOULS  Episode 3 (July 1776 – January 1777  Sunday\, February 15th \nCONQUER BY DRAWN GAME  Episode 4 (January 1777 – February 1778)  Sunday\, February 22nd \nTHE SOUL OF ALL AMERICA  Episode 5 (December 1777 – May 1780)  Sunday\, March 1st \nTHE MOST SACRED THING  Episode 6 (May 1780 – Onward)  Sunday\, March 8th \n  \n 
URL:https://sagharborhistoricalmuseum.org/event/the-american-revolution-6-part-documentary-2/2026-02-22/
LOCATION:Sag Harbor Cinema\, 90 Main Street\, Sag Harbor\, NY\, 11963\, United States
CATEGORIES:250th
ATTACH;FMTTYPE=image/jpeg:https://sagharborhistoricalmuseum.org/wp-content/uploads/2026/01/The-American-Revolution-POSTER-2.jpeg
ORGANIZER;CN="Sag Harbor Historical Museum":MAILTO:sagharborhist@gmail.com
END:VEVENT
BEGIN:VEVENT
DTSTART;TZID=America/New_York:20260215T110000
DTEND;TZID=America/New_York:20260215T130000
DTSTAMP:20260422T064853
CREATED:20260313T155648Z
LAST-MODIFIED:20260313T155726Z
UID:10000033-1771153200-1771160400@sagharborhistoricalmuseum.org
SUMMARY:The American Revolution 6-Part Documentary
DESCRIPTION:Sag Harbor Cinema & Sag Harbor Historical Museum Present a new 6-part documentary from \nKen Burns\, Sarah Botstein and David Schmidt. \n \n“The American Revolution” will play in six parts on Sundays from February 1st through March 8th\, 2026 at the Cinema. Screenings are offered free on a first come\, first serve basis. Registration is highly recommended and available at the Cinema box office or at sagharborcinema.org. \nIN ORDER TO BE FREE  Episode 1 (May 1754 – May 1775)  Sunday\, February 1st\, 11:00 a.m. \nAN ASYLUM FOR MANKIND  Episode 2 (May 1775 – July 1776)  Sunday\, February 8th\, 11:00 a.m. \nTHE TIMES THAT TRY MEN’S SOULS  Episode 3 (July 1776 – January 1777  Sunday\, February 15th \nCONQUER BY DRAWN GAME  Episode 4 (January 1777 – February 1778)  Sunday\, February 22nd \nTHE SOUL OF ALL AMERICA  Episode 5 (December 1777 – May 1780)  Sunday\, March 1st \nTHE MOST SACRED THING  Episode 6 (May 1780 – Onward)  Sunday\, March 8th \n  \n 
URL:https://sagharborhistoricalmuseum.org/event/the-american-revolution-6-part-documentary-2/2026-02-15/
LOCATION:Sag Harbor Cinema\, 90 Main Street\, Sag Harbor\, NY\, 11963\, United States
CATEGORIES:250th
ATTACH;FMTTYPE=image/jpeg:https://sagharborhistoricalmuseum.org/wp-content/uploads/2026/01/The-American-Revolution-POSTER-2.jpeg
ORGANIZER;CN="Sag Harbor Historical Museum":MAILTO:sagharborhist@gmail.com
END:VEVENT
BEGIN:VEVENT
DTSTART;TZID=America/New_York:20260208T110000
DTEND;TZID=America/New_York:20260208T130000
DTSTAMP:20260422T064853
CREATED:20260313T155648Z
LAST-MODIFIED:20260313T155726Z
UID:10000031-1770548400-1770555600@sagharborhistoricalmuseum.org
SUMMARY:The American Revolution 6-Part Documentary
DESCRIPTION:Sag Harbor Cinema & Sag Harbor Historical Museum Present a new 6-part documentary from \nKen Burns\, Sarah Botstein and David Schmidt. \n \n“The American Revolution” will play in six parts on Sundays from February 1st through March 8th\, 2026 at the Cinema. Screenings are offered free on a first come\, first serve basis. Registration is highly recommended and available at the Cinema box office or at sagharborcinema.org. \nIN ORDER TO BE FREE  Episode 1 (May 1754 – May 1775)  Sunday\, February 1st\, 11:00 a.m. \nAN ASYLUM FOR MANKIND  Episode 2 (May 1775 – July 1776)  Sunday\, February 8th\, 11:00 a.m. \nTHE TIMES THAT TRY MEN’S SOULS  Episode 3 (July 1776 – January 1777  Sunday\, February 15th \nCONQUER BY DRAWN GAME  Episode 4 (January 1777 – February 1778)  Sunday\, February 22nd \nTHE SOUL OF ALL AMERICA  Episode 5 (December 1777 – May 1780)  Sunday\, March 1st \nTHE MOST SACRED THING  Episode 6 (May 1780 – Onward)  Sunday\, March 8th \n  \n 
URL:https://sagharborhistoricalmuseum.org/event/the-american-revolution-6-part-documentary-2/2026-02-08/
LOCATION:Sag Harbor Cinema\, 90 Main Street\, Sag Harbor\, NY\, 11963\, United States
CATEGORIES:250th
ATTACH;FMTTYPE=image/jpeg:https://sagharborhistoricalmuseum.org/wp-content/uploads/2026/01/The-American-Revolution-POSTER-2.jpeg
ORGANIZER;CN="Sag Harbor Historical Museum":MAILTO:sagharborhist@gmail.com
END:VEVENT
BEGIN:VEVENT
DTSTART;TZID=America/New_York:20260201T110000
DTEND;TZID=America/New_York:20260201T130000
DTSTAMP:20260422T064853
CREATED:20260112T121931Z
LAST-MODIFIED:20260313T155230Z
UID:10000030-1769943600-1769950800@sagharborhistoricalmuseum.org
SUMMARY:The American Revolution 6-Part Documentary
DESCRIPTION:Sag Harbor Cinema & Sag Harbor Historical Museum Present a new 6-part documentary from \nKen Burns\, Sarah Botstein and David Schmidt. \n \n“The American Revolution” will play in six parts on Sundays from February 1st through March 8th\, 2026 at the Cinema. Screenings are offered free on a first come\, first serve basis. Registration is highly recommended and available at the Cinema box office or at sagharborcinema.org. \nIN ORDER TO BE FREE  Episode 1 (May 1754 – May 1775)  Sunday\, February 1st\, 11:00 a.m. \nAN ASYLUM FOR MANKIND  Episode 2 (May 1775 – July 1776)  Sunday\, February 8th\, 11:00 a.m. \nTHE TIMES THAT TRY MEN’S SOULS  Episode 3 (July 1776 – January 1777  Sunday\, February 15th \nCONQUER BY DRAWN GAME  Episode 4 (January 1777 – February 1778)  Sunday\, February 22nd \nTHE SOUL OF ALL AMERICA  Episode 5 (December 1777 – May 1780)  Sunday\, March 1st \nTHE MOST SACRED THING  Episode 6 (May 1780 – Onward)  Sunday\, March 8th \n  \n 
URL:https://sagharborhistoricalmuseum.org/event/the-american-revolution-6-part-documentary/
LOCATION:Sag Harbor Cinema\, 90 Main Street\, Sag Harbor\, NY\, 11963\, United States
CATEGORIES:250th
ATTACH;FMTTYPE=image/jpeg:https://sagharborhistoricalmuseum.org/wp-content/uploads/2026/01/The-American-Revolution-POSTER-2.jpeg
ORGANIZER;CN="Sag Harbor Historical Museum":MAILTO:sagharborhist@gmail.com
END:VEVENT
END:VCALENDAR