BEGIN:VCALENDAR
VERSION:2.0
PRODID:-//Sag Harbor Historical Museum - ECPv6.15.20//NONSGML v1.0//EN
CALSCALE:GREGORIAN
METHOD:PUBLISH
X-ORIGINAL-URL:https://sagharborhistoricalmuseum.org
X-WR-CALDESC:Events for Sag Harbor Historical Museum
REFRESH-INTERVAL;VALUE=DURATION:PT1H
X-Robots-Tag:noindex
X-PUBLISHED-TTL:PT1H
BEGIN:VTIMEZONE
TZID:America/New_York
BEGIN:DAYLIGHT
TZOFFSETFROM:-0500
TZOFFSETTO:-0400
TZNAME:EDT
DTSTART:20250309T070000
END:DAYLIGHT
BEGIN:STANDARD
TZOFFSETFROM:-0400
TZOFFSETTO:-0500
TZNAME:EST
DTSTART:20251102T060000
END:STANDARD
BEGIN:DAYLIGHT
TZOFFSETFROM:-0500
TZOFFSETTO:-0400
TZNAME:EDT
DTSTART:20260308T070000
END:DAYLIGHT
BEGIN:STANDARD
TZOFFSETFROM:-0400
TZOFFSETTO:-0500
TZNAME:EST
DTSTART:20261101T060000
END:STANDARD
BEGIN:DAYLIGHT
TZOFFSETFROM:-0500
TZOFFSETTO:-0400
TZNAME:EDT
DTSTART:20270314T070000
END:DAYLIGHT
BEGIN:STANDARD
TZOFFSETFROM:-0400
TZOFFSETTO:-0500
TZNAME:EST
DTSTART:20271107T060000
END:STANDARD
END:VTIMEZONE
BEGIN:VEVENT
DTSTART;TZID=America/New_York:20260516T160000
DTEND;TZID=America/New_York:20260516T173000
DTSTAMP:20260422T052249
CREATED:20260329T165932Z
LAST-MODIFIED:20260330T171355Z
UID:10000046-1778947200-1778952600@sagharborhistoricalmuseum.org
SUMMARY:Exhibit Opening: "The Revolution at Hand: Clothing\, Work\, and Daily Life in Sag Harbor"
DESCRIPTION:The Sag Harbor Historical Museum presents the story of Sag Harbor before\, during\, and after the American Revolution through objects\, clothing\, and the lived experiences of its residents. \nOccupying all three galleries of the museum\, the exhibition is organized thematically across four core sections: \nBefore the War; British Occupation; Exile and Disruption; and Rebuilding & Celebration.
URL:https://sagharborhistoricalmuseum.org/event/exhibit-opening-the-revolution-at-hand-clothing-work-and-daily-life-in-sag-harbor-1740s-1810/
LOCATION:Sag Harbor Historical Museum\, 174 Main Street\, Sag Harbor\, NY\, 11963\, United States
CATEGORIES:250th
ATTACH;FMTTYPE=image/jpeg:https://sagharborhistoricalmuseum.org/wp-content/uploads/2026/01/Revolution-Book-Cover-JPEG.jpeg
ORGANIZER;CN="Sag Harbor Historical Museum":MAILTO:sagharborhist@gmail.com
END:VEVENT
END:VCALENDAR