BEGIN:VCALENDAR
VERSION:2.0
PRODID:-//Sag Harbor Historical Museum - ECPv6.15.20//NONSGML v1.0//EN
CALSCALE:GREGORIAN
METHOD:PUBLISH
X-WR-CALNAME:Sag Harbor Historical Museum
X-ORIGINAL-URL:https://sagharborhistoricalmuseum.org
X-WR-CALDESC:Events for Sag Harbor Historical Museum
REFRESH-INTERVAL;VALUE=DURATION:PT1H
X-Robots-Tag:noindex
X-PUBLISHED-TTL:PT1H
BEGIN:VTIMEZONE
TZID:America/New_York
BEGIN:DAYLIGHT
TZOFFSETFROM:-0500
TZOFFSETTO:-0400
TZNAME:EDT
DTSTART:20250309T070000
END:DAYLIGHT
BEGIN:STANDARD
TZOFFSETFROM:-0400
TZOFFSETTO:-0500
TZNAME:EST
DTSTART:20251102T060000
END:STANDARD
BEGIN:DAYLIGHT
TZOFFSETFROM:-0500
TZOFFSETTO:-0400
TZNAME:EDT
DTSTART:20260308T070000
END:DAYLIGHT
BEGIN:STANDARD
TZOFFSETFROM:-0400
TZOFFSETTO:-0500
TZNAME:EST
DTSTART:20261101T060000
END:STANDARD
BEGIN:DAYLIGHT
TZOFFSETFROM:-0500
TZOFFSETTO:-0400
TZNAME:EDT
DTSTART:20270314T070000
END:DAYLIGHT
BEGIN:STANDARD
TZOFFSETFROM:-0400
TZOFFSETTO:-0500
TZNAME:EST
DTSTART:20271107T060000
END:STANDARD
END:VTIMEZONE
BEGIN:VEVENT
DTSTART;TZID=America/New_York:20260524T110000
DTEND;TZID=America/New_York:20260524T120000
DTSTAMP:20260422T162410
CREATED:20260323T132008Z
LAST-MODIFIED:20260323T133110Z
UID:10000039-1779620400-1779624000@sagharborhistoricalmuseum.org
SUMMARY:Dedication of a Patriot's Headstone
DESCRIPTION:Capt. Lester Beebee was a Minute Man during the Revolutionary War. Last year\, with the support of the Robert David Lion Gardiner Foundation\, the Beebee Headstones\, that were nearly destroyed when the steeple of the Whalers’ Church fell on them during the hurricane of 1938\, were restored. However\, Lester Beebee’s headstone was so severely damaged\, it had to be replaced. Join us in the Old Burying Ground to honor this patriot at the dedication ceremony Sunday May 24th.
URL:https://sagharborhistoricalmuseum.org/event/dedication-of-a-patriots-headstone/
LOCATION:Old Burying Ground\, 34 Union Street\, Sag Harbor\, NY\, 11963
CATEGORIES:Walking Tour of the Old Burying Ground
ATTACH;FMTTYPE=image/jpeg:https://sagharborhistoricalmuseum.org/wp-content/uploads/2026/03/IMG_8857-scaled.jpeg
ORGANIZER;CN="Sag Harbor Historical Museum":MAILTO:sagharborhist@gmail.com
END:VEVENT
BEGIN:VEVENT
DTSTART;TZID=America/New_York:20260524T130000
DTEND;TZID=America/New_York:20260524T150000
DTSTAMP:20260422T162410
CREATED:20260331T114851Z
LAST-MODIFIED:20260331T120804Z
UID:10000047-1779627600-1779634800@sagharborhistoricalmuseum.org
SUMMARY:Preserving Colonial Headstones - A Family Workshop
DESCRIPTION:Join our President\, Zachary Studenroth\, at the Old Burying Ground for a fun-filled afternoon learning how to preserve the headstones of our colonial ancestors. Come one and all – small and tall – this is a family event. Admission is free.
URL:https://sagharborhistoricalmuseum.org/event/preserving-colonial-headstones-a-family-workshop/
LOCATION:Old Burying Ground\, 34 Union Street\, Sag Harbor\, NY\, 11963
ATTACH;FMTTYPE=image/jpeg:https://sagharborhistoricalmuseum.org/wp-content/uploads/2026/03/Unknown-scaled.jpeg
ORGANIZER;CN="Sag Harbor Historical Museum":MAILTO:sagharborhist@gmail.com
END:VEVENT
BEGIN:VEVENT
DTSTART;TZID=America/New_York:20260628T140000
DTEND;TZID=America/New_York:20260628T153000
DTSTAMP:20260422T162410
CREATED:20260323T140321Z
LAST-MODIFIED:20260323T140321Z
UID:10000040-1782655200-1782660600@sagharborhistoricalmuseum.org
SUMMARY:"The British Redoubt of 1777" Walking Tour
DESCRIPTION:In 2025\, the Museum completed ground penetrating radar imaging of the crest of the Old Burying Ground and has proven that there was a British redoubt (think fort) there during the Revolution. Join Zach Studenroth for this fascinating walking tour of the Old Burying Ground focusing specifically on the British Redoubt of 1777.
URL:https://sagharborhistoricalmuseum.org/event/the-british-redoubt-of-1777-walking-tour/
LOCATION:Old Burying Ground\, 34 Union Street\, Sag Harbor\, NY\, 11963
CATEGORIES:Walking Tour of the Old Burying Ground
ATTACH;FMTTYPE=image/jpeg:https://sagharborhistoricalmuseum.org/wp-content/uploads/2026/03/Redoubt.jpeg
ORGANIZER;CN="Sag Harbor Historical Museum":MAILTO:sagharborhist@gmail.com
END:VEVENT
BEGIN:VEVENT
DTSTART;TZID=America/New_York:20260726T140000
DTEND;TZID=America/New_York:20260726T153000
DTSTAMP:20260422T162410
CREATED:20260323T142055Z
LAST-MODIFIED:20260323T142055Z
UID:10000042-1785074400-1785079800@sagharborhistoricalmuseum.org
SUMMARY:"Veterans' & Patriots' Monuments" Walking Tour
DESCRIPTION:Numerous veterans and patriots are buried in the Old Burying Ground in Sag Harbor and Zach Studenroth knows their stories. Meet at the flagpole at Union & Church Streets to join this walking tour of the Old Burying Ground.
URL:https://sagharborhistoricalmuseum.org/event/veterans-patriots-monuments-walking-tour/
LOCATION:Old Burying Ground\, 34 Union Street\, Sag Harbor\, NY\, 11963
ATTACH;FMTTYPE=image/jpeg:https://sagharborhistoricalmuseum.org/wp-content/uploads/2026/03/Headstones-Descending-Sizes.jpeg
ORGANIZER;CN="Sag Harbor Historical Museum":MAILTO:sagharborhist@gmail.com
END:VEVENT
BEGIN:VEVENT
DTSTART;TZID=America/New_York:20260830T140000
DTEND;TZID=America/New_York:20260830T153000
DTSTAMP:20260422T162410
CREATED:20260414T125356Z
LAST-MODIFIED:20260414T125821Z
UID:10000049-1788098400-1788103800@sagharborhistoricalmuseum.org
SUMMARY:"Restoring a Colonial Treasure" Walking Tour
DESCRIPTION:Numerous veterans and patriots are buried in the Old Burying Ground in Sag Harbor and Zach Studenroth knows their stories. Meet at the flagpole at Union & Church Streets to join this walking tour of the Old Burying Ground.
URL:https://sagharborhistoricalmuseum.org/event/restoring-a-colonial-treasure-walking-tour-of-the-old-burying-ground/
LOCATION:Old Burying Ground\, 34 Union Street\, Sag Harbor\, NY\, 11963
ATTACH;FMTTYPE=image/jpeg:https://sagharborhistoricalmuseum.org/wp-content/uploads/2026/04/Headstones.jpeg
ORGANIZER;CN="Sag Harbor Historical Museum":MAILTO:sagharborhist@gmail.com
END:VEVENT
END:VCALENDAR